BEGIN:VCALENDAR
VERSION:2.0
PRODID:-//Scarborough Philharmonic Orchestra - ECPv6.15.17//NONSGML v1.0//EN
CALSCALE:GREGORIAN
METHOD:PUBLISH
X-WR-CALNAME:Scarborough Philharmonic Orchestra
X-ORIGINAL-URL:https://spo.ca
X-WR-CALDESC:Events for Scarborough Philharmonic Orchestra
REFRESH-INTERVAL;VALUE=DURATION:PT1H
X-Robots-Tag:noindex
X-PUBLISHED-TTL:PT1H
BEGIN:VTIMEZONE
TZID:America/Toronto
BEGIN:DAYLIGHT
TZOFFSETFROM:-0500
TZOFFSETTO:-0400
TZNAME:EDT
DTSTART:20240310T070000
END:DAYLIGHT
BEGIN:STANDARD
TZOFFSETFROM:-0400
TZOFFSETTO:-0500
TZNAME:EST
DTSTART:20241103T060000
END:STANDARD
BEGIN:DAYLIGHT
TZOFFSETFROM:-0500
TZOFFSETTO:-0400
TZNAME:EDT
DTSTART:20250309T070000
END:DAYLIGHT
BEGIN:STANDARD
TZOFFSETFROM:-0400
TZOFFSETTO:-0500
TZNAME:EST
DTSTART:20251102T060000
END:STANDARD
BEGIN:DAYLIGHT
TZOFFSETFROM:-0500
TZOFFSETTO:-0400
TZNAME:EDT
DTSTART:20260308T070000
END:DAYLIGHT
BEGIN:STANDARD
TZOFFSETFROM:-0400
TZOFFSETTO:-0500
TZNAME:EST
DTSTART:20261101T060000
END:STANDARD
END:VTIMEZONE
BEGIN:VEVENT
DTSTART;TZID=America/Toronto:20251129T193000
DTEND;TZID=America/Toronto:20251129T220000
DTSTAMP:20260423T093647
CREATED:20250501T143825Z
LAST-MODIFIED:20251110T163630Z
UID:19468-1764444600-1764453600@spo.ca
SUMMARY:Festive Fables
DESCRIPTION:Join us for a festive family concert featuring winter-themed musical stories from around the globe.  								\n				\n				\n				\n									SPO\, Ronald Royer\, Conductor; Bel Canto Singers and Serenata Singers\, Michael Morgan\, Conductor; SPO Women’s Choir\, Yiping Chao\, Conductor; Lisa Tahara\, Piano PROGRAM: *Ted Runcie: Land of Hochelaga (SPO Commission and Premiere) Igor Stravinsky: The Firebird (1919 Version) Charles Fernandez:  Ratso Scherzo\, for Piano and Orchestra For Choir and Orchestra*Bruno Degazio\, arr. :  Hanukkah Medley John Rutter: Shepherd’s Pipe Carol Silvestri/Ballard; arr. Hayes:  Believe (from The Polar Express) Andy Beck: ‘Twas the Night Before Christmas Styne/Cahn; arr. Hayes : Let It Snow! Let It Snow! Let It Snow! Leroy Anderson: A Christmas Festival Arr. Arthur Harris: We Wish You a Merry Christmas  								\n				\n					\n				\n		\n					\n				\n				\n									\n					\n						\n									Buy Tickets
URL:https://spo.ca/event/festive-fables/
LOCATION:Salvation Army Scarborough Citadel\, 2021 Lawrence Avenue East\, Toronto\, Ontario\, M1R2Z2\, Canada
CATEGORIES:2025-2026,2025-26 Orchestra Concerts
ATTACH;FMTTYPE=image/webp:https://spo.ca/wp-content/uploads/2025/05/2025-26-banner-art-Festive-Fables-thumbnail.webp
END:VEVENT
END:VCALENDAR