BEGIN:VCALENDAR
VERSION:2.0
PRODID:-//Scarborough Philharmonic Orchestra - ECPv6.15.17//NONSGML v1.0//EN
CALSCALE:GREGORIAN
METHOD:PUBLISH
X-WR-CALNAME:Scarborough Philharmonic Orchestra
X-ORIGINAL-URL:https://spo.ca
X-WR-CALDESC:Events for Scarborough Philharmonic Orchestra
REFRESH-INTERVAL;VALUE=DURATION:PT1H
X-Robots-Tag:noindex
X-PUBLISHED-TTL:PT1H
BEGIN:VTIMEZONE
TZID:America/Toronto
BEGIN:DAYLIGHT
TZOFFSETFROM:-0500
TZOFFSETTO:-0400
TZNAME:EDT
DTSTART:20250309T070000
END:DAYLIGHT
BEGIN:STANDARD
TZOFFSETFROM:-0400
TZOFFSETTO:-0500
TZNAME:EST
DTSTART:20251102T060000
END:STANDARD
BEGIN:DAYLIGHT
TZOFFSETFROM:-0500
TZOFFSETTO:-0400
TZNAME:EDT
DTSTART:20260308T070000
END:DAYLIGHT
BEGIN:STANDARD
TZOFFSETFROM:-0400
TZOFFSETTO:-0500
TZNAME:EST
DTSTART:20261101T060000
END:STANDARD
BEGIN:DAYLIGHT
TZOFFSETFROM:-0500
TZOFFSETTO:-0400
TZNAME:EDT
DTSTART:20270314T070000
END:DAYLIGHT
BEGIN:STANDARD
TZOFFSETFROM:-0400
TZOFFSETTO:-0500
TZNAME:EST
DTSTART:20271107T060000
END:STANDARD
END:VTIMEZONE
BEGIN:VEVENT
DTSTART;TZID=America/Toronto:20260117T193000
DTEND;TZID=America/Toronto:20260117T220000
DTSTAMP:20260423T092920
CREATED:20250501T190801Z
LAST-MODIFIED:20260111T144522Z
UID:19487-1768678200-1768687200@spo.ca
SUMMARY:Daniel Vnukowski with the Odin Quartet
DESCRIPTION:Featuring: Daniel Vnukowski\, Piano; Odin Quartet; Kaye Royer\, Clarinet Robert Schumann:  Einfach\, innig from Three Romances for Clarinet and Piano\, Op. 94  Robert Schumann:  Assai agitato from String Quartet No. 3 in A Major\, Op. 41/3  Carl Maria von Weber:  Rondo from Quintet for Clarinet and String Quartet\, Op. 34  *Michael (Qin Tai) Tan: The White Woods\, for Clarinet and String Quartet (SPO New Generation Composer\, premiere)  *Elizabeth Raum: Three Muses (Harriett\, Elusive Elise and Clara) for Piano Trio (premiere)  *Ronald Royer:  Rondo Brillante for Piano Quintet  (premiere) Robert Schumann:  Piano Quintet in Eb Major\, Op. 44 (30:00)  								\n				\n					\n				\n		\n					\n				\n				\n									\n					\n						\n									Buy Tickets
URL:https://spo.ca/event/daniel-vnukowski-with-the-odin-quartet/
LOCATION:Knox United Church\, 2569 Midland Avenue\, Scarborough\, Ontario\, M1S 1R3\, Canada
CATEGORIES:2025-2026,2025-2026 Chamber Concerts
ATTACH;FMTTYPE=image/webp:https://spo.ca/wp-content/uploads/2025/05/2025-26-banner-art-January-thumb.webp
END:VEVENT
END:VCALENDAR