BEGIN:VCALENDAR
VERSION:2.0
PRODID:-//Scarborough Philharmonic Orchestra - ECPv6.15.17//NONSGML v1.0//EN
CALSCALE:GREGORIAN
METHOD:PUBLISH
X-WR-CALNAME:Scarborough Philharmonic Orchestra
X-ORIGINAL-URL:https://spo.ca
X-WR-CALDESC:Events for Scarborough Philharmonic Orchestra
REFRESH-INTERVAL;VALUE=DURATION:PT1H
X-Robots-Tag:noindex
X-PUBLISHED-TTL:PT1H
BEGIN:VTIMEZONE
TZID:America/Toronto
BEGIN:DAYLIGHT
TZOFFSETFROM:-0500
TZOFFSETTO:-0400
TZNAME:EDT
DTSTART:20240310T070000
END:DAYLIGHT
BEGIN:STANDARD
TZOFFSETFROM:-0400
TZOFFSETTO:-0500
TZNAME:EST
DTSTART:20241103T060000
END:STANDARD
BEGIN:DAYLIGHT
TZOFFSETFROM:-0500
TZOFFSETTO:-0400
TZNAME:EDT
DTSTART:20250309T070000
END:DAYLIGHT
BEGIN:STANDARD
TZOFFSETFROM:-0400
TZOFFSETTO:-0500
TZNAME:EST
DTSTART:20251102T060000
END:STANDARD
BEGIN:DAYLIGHT
TZOFFSETFROM:-0500
TZOFFSETTO:-0400
TZNAME:EDT
DTSTART:20260308T070000
END:DAYLIGHT
BEGIN:STANDARD
TZOFFSETFROM:-0400
TZOFFSETTO:-0500
TZNAME:EST
DTSTART:20261101T060000
END:STANDARD
END:VTIMEZONE
BEGIN:VEVENT
DTSTART;TZID=America/Toronto:20251101T193000
DTEND;TZID=America/Toronto:20251101T213000
DTSTAMP:20260425T094032
CREATED:20250501T145452Z
LAST-MODIFIED:20251023T191212Z
UID:19458-1762025400-1762032600@spo.ca
SUMMARY:Crossroads
DESCRIPTION:Strings of the SPO\, Ronald Royer\, Conductor; The Canadian Arabic Orchestra\, Wanes Moubayed\, Conductor; Charbel Rouhana\, Oud; Karla García\, Guitar Ottorino Respighi: Ancient Airs and Dances No. 3\, for String Orchestra  Luigi Boccherini:  Fandango from Guitar Quintet in D major\, G.448  Luiz Bonfá: (arranged *Martin Loomer): Manha de Carnaval\, for Guitar and String Orchestra  *Daniel Mehdizadeh:  Asrare Azal (based on a poem by Omar Khayyam)\, for Oud\, Guitar and String Orchestra (Premiere)  *Ronald Royer – New Work for String Orchestra and Doumbek (Premiere)  *Wanes Moubayed:  Concerto for Oud\, Percussion and String Orchestra (CCA and OAC commissioning grants received\, Premiere) (27:00) * Wanes Moubayed:  Longa Shahnaz\, for String Orchestra and Doumbek (2:00) * Canadian Composer\nThe program features new works by two of our audiences’ favourite local composers\, Daniel Mehdizadeh and conductor Ronald Royer. In addition\, Wanes Moubayed\, artistic director of the Canadian Arabic Orchestra\, has created a new concerto for oud that will premiere at that concert. Wanes believes that this is the first oud concerto ever written in Canada\, saying: The oud was always something mysterious for me. My dreams was always to compose a concerto for oud\, because the oud – in the Arabic culture – was used as an instrument to accompany singers. It’s not really used as a solo instrument. I wanted to bring the oud in a different way. It’s now at the centre of the orchestra and performs a solo part. Wanes’s grandfather\, whom he never met\, made ouds – and Wanes has even been able to find and purchase two of his grandfather’s instruments since moving to North America. The oud is a Middle Eastern instrument with a short neck (fingerboard) that looks like a lute. it typically has 11 strings grouped into six courses\, although it could have anywhere from 10-13 strings grouped into 5-7 courses. You can learn about the oud on Wikipedia\, or click on the video below to see our oud soloist\, Charbel Rouhana\, performing with the Oriental Orchestra of the Lebanese Conservatory. 								\n				\n					\n				\n		\n					\n				\n				\n							\n							\n				\n					\n					\n												\n							\n								\n									Buy Tickets
URL:https://spo.ca/event/crossroads/
LOCATION:Salvation Army Scarborough Citadel\, 2021 Lawrence Avenue East\, Toronto\, Ontario\, M1R2Z2\, Canada
CATEGORIES:2025-2026,2025-26 Orchestra Concerts
ATTACH;FMTTYPE=image/webp:https://spo.ca/wp-content/uploads/2025/05/2025-26-banner-art-Crossroads-thumbnail.webp
END:VEVENT
END:VCALENDAR